BEGIN:VCALENDAR
VERSION:2.0
PRODID:-//Freundeskreis für Rollstuhlfahrer Viersen e.V. - ECPv6.15.20//NONSGML v1.0//EN
CALSCALE:GREGORIAN
METHOD:PUBLISH
X-WR-CALNAME:Freundeskreis für Rollstuhlfahrer Viersen e.V.
X-ORIGINAL-URL:https://rolliverein.de
X-WR-CALDESC:Veranstaltungen für Freundeskreis für Rollstuhlfahrer Viersen e.V.
REFRESH-INTERVAL;VALUE=DURATION:PT1H
X-Robots-Tag:noindex
X-PUBLISHED-TTL:PT1H
BEGIN:VTIMEZONE
TZID:Europe/Berlin
BEGIN:DAYLIGHT
TZOFFSETFROM:+0100
TZOFFSETTO:+0200
TZNAME:CEST
DTSTART:20240331T010000
END:DAYLIGHT
BEGIN:STANDARD
TZOFFSETFROM:+0200
TZOFFSETTO:+0100
TZNAME:CET
DTSTART:20241027T010000
END:STANDARD
BEGIN:DAYLIGHT
TZOFFSETFROM:+0100
TZOFFSETTO:+0200
TZNAME:CEST
DTSTART:20250330T010000
END:DAYLIGHT
BEGIN:STANDARD
TZOFFSETFROM:+0200
TZOFFSETTO:+0100
TZNAME:CET
DTSTART:20251026T010000
END:STANDARD
BEGIN:DAYLIGHT
TZOFFSETFROM:+0100
TZOFFSETTO:+0200
TZNAME:CEST
DTSTART:20260329T010000
END:DAYLIGHT
BEGIN:STANDARD
TZOFFSETFROM:+0200
TZOFFSETTO:+0100
TZNAME:CET
DTSTART:20261025T010000
END:STANDARD
END:VTIMEZONE
BEGIN:VEVENT
DTSTART;TZID=Europe/Berlin:20250222T140000
DTEND;TZID=Europe/Berlin:20250222T180000
DTSTAMP:20260421T211807
CREATED:20241128T141318Z
LAST-MODIFIED:20250214T144759Z
UID:2901-1740232800-1740247200@rolliverein.de
SUMMARY:Essen - mit Anmeldung
DESCRIPTION:!!!TERMIN ÄNDERUNG!!!
URL:https://rolliverein.de/veranstaltungen/essen-mit-anmeldung/
LOCATION:Begegnungsstätte\, Gladbacher Straße 60\, Viersen\, 41747
END:VEVENT
END:VCALENDAR