BEGIN:VCALENDAR
VERSION:2.0
PRODID:-//Freundeskreis für Rollstuhlfahrer Viersen e.V. - ECPv6.15.20//NONSGML v1.0//EN
CALSCALE:GREGORIAN
METHOD:PUBLISH
X-WR-CALNAME:Freundeskreis für Rollstuhlfahrer Viersen e.V.
X-ORIGINAL-URL:https://rolliverein.de
X-WR-CALDESC:Veranstaltungen für Freundeskreis für Rollstuhlfahrer Viersen e.V.
REFRESH-INTERVAL;VALUE=DURATION:PT1H
X-Robots-Tag:noindex
X-PUBLISHED-TTL:PT1H
BEGIN:VTIMEZONE
TZID:Europe/Berlin
BEGIN:DAYLIGHT
TZOFFSETFROM:+0100
TZOFFSETTO:+0200
TZNAME:CEST
DTSTART:20210328T010000
END:DAYLIGHT
BEGIN:STANDARD
TZOFFSETFROM:+0200
TZOFFSETTO:+0100
TZNAME:CET
DTSTART:20211031T010000
END:STANDARD
BEGIN:DAYLIGHT
TZOFFSETFROM:+0100
TZOFFSETTO:+0200
TZNAME:CEST
DTSTART:20220327T010000
END:DAYLIGHT
BEGIN:STANDARD
TZOFFSETFROM:+0200
TZOFFSETTO:+0100
TZNAME:CET
DTSTART:20221030T010000
END:STANDARD
BEGIN:DAYLIGHT
TZOFFSETFROM:+0100
TZOFFSETTO:+0200
TZNAME:CEST
DTSTART:20230326T010000
END:DAYLIGHT
BEGIN:STANDARD
TZOFFSETFROM:+0200
TZOFFSETTO:+0100
TZNAME:CET
DTSTART:20231029T010000
END:STANDARD
END:VTIMEZONE
BEGIN:VEVENT
DTSTART;TZID=Europe/Berlin:20220603T080000
DTEND;TZID=Europe/Berlin:20220603T120000
DTSTAMP:20260421T061408
CREATED:20220320T151332Z
LAST-MODIFIED:20220320T152344Z
UID:657-1654243200-1654257600@rolliverein.de
SUMMARY:Frühstück
DESCRIPTION:Keine Lust alleine zu Frühstücken?\nDann komm gerne zu uns! (Auch ohne Voranmeldung) \n  \nBeginn: 08:00 Uhr \nEnde: 11-12 Uhr
URL:https://rolliverein.de/veranstaltungen/fruehstueck-7/
END:VEVENT
BEGIN:VEVENT
DTSTART;TZID=Europe/Berlin:20220604T110000
DTEND;TZID=Europe/Berlin:20220604T150000
DTSTAMP:20260421T061408
CREATED:20220320T145134Z
LAST-MODIFIED:20220320T152428Z
UID:632-1654340400-1654354800@rolliverein.de
SUMMARY:Brunch
DESCRIPTION:
URL:https://rolliverein.de/veranstaltungen/brunch/
END:VEVENT
BEGIN:VEVENT
DTSTART;TZID=Europe/Berlin:20220617T080000
DTEND;TZID=Europe/Berlin:20220617T120000
DTSTAMP:20260421T061408
CREATED:20220320T144950Z
LAST-MODIFIED:20220327T160135Z
UID:630-1655452800-1655467200@rolliverein.de
SUMMARY:Frühstück
DESCRIPTION:Keine Lust alleine zu frühstücken?\nDann komm gerne zu uns! (Auch ohne Voranmeldung)
URL:https://rolliverein.de/veranstaltungen/fruehstueck-4/
END:VEVENT
BEGIN:VEVENT
DTSTART;TZID=Europe/Berlin:20220626T120000
DTEND;TZID=Europe/Berlin:20220626T170000
DTSTAMP:20260421T061408
CREATED:20220320T145338Z
LAST-MODIFIED:20220320T152622Z
UID:634-1656244800-1656262800@rolliverein.de
SUMMARY:Sonntagsessen
DESCRIPTION:Menü: Suppe\, Kalbsteak mit Rösti\, Lumenkohl\, Dessert  11\,00€ \n  \nBitte Voranmeldungen bis zum 16.06.2022 abgeben!
URL:https://rolliverein.de/veranstaltungen/sonntagsessen/
END:VEVENT
END:VCALENDAR