BEGIN:VCALENDAR
VERSION:2.0
PRODID:-//Freundeskreis für Rollstuhlfahrer Viersen e.V. - ECPv6.15.20//NONSGML v1.0//EN
CALSCALE:GREGORIAN
METHOD:PUBLISH
X-ORIGINAL-URL:https://rolliverein.de
X-WR-CALDESC:Veranstaltungen für Freundeskreis für Rollstuhlfahrer Viersen e.V.
REFRESH-INTERVAL;VALUE=DURATION:PT1H
X-Robots-Tag:noindex
X-PUBLISHED-TTL:PT1H
BEGIN:VTIMEZONE
TZID:Europe/Berlin
BEGIN:DAYLIGHT
TZOFFSETFROM:+0100
TZOFFSETTO:+0200
TZNAME:CEST
DTSTART:20220327T010000
END:DAYLIGHT
BEGIN:STANDARD
TZOFFSETFROM:+0200
TZOFFSETTO:+0100
TZNAME:CET
DTSTART:20221030T010000
END:STANDARD
BEGIN:DAYLIGHT
TZOFFSETFROM:+0100
TZOFFSETTO:+0200
TZNAME:CEST
DTSTART:20230326T010000
END:DAYLIGHT
BEGIN:STANDARD
TZOFFSETFROM:+0200
TZOFFSETTO:+0100
TZNAME:CET
DTSTART:20231029T010000
END:STANDARD
BEGIN:DAYLIGHT
TZOFFSETFROM:+0100
TZOFFSETTO:+0200
TZNAME:CEST
DTSTART:20240331T010000
END:DAYLIGHT
BEGIN:STANDARD
TZOFFSETFROM:+0200
TZOFFSETTO:+0100
TZNAME:CET
DTSTART:20241027T010000
END:STANDARD
END:VTIMEZONE
BEGIN:VEVENT
DTSTART;TZID=Europe/Berlin:20230701T120000
DTEND;TZID=Europe/Berlin:20230702T005900
DTSTAMP:20260420T090442
CREATED:20230312T100225Z
LAST-MODIFIED:20230531T064632Z
UID:2084-1688212800-1688259540@rolliverein.de
SUMMARY:Sommerfest
DESCRIPTION:SOMMERFEST – MIT OPEN-END \nEs gibt ein tolles Programm. \nFür musikalische Unterhaltung sorgen die Musikfreunde Viersen-Rahser und \nfür das leibliche Wohl ist auch gesorgt. \n  \nWir freuen uns auf Euch!
URL:https://rolliverein.de/veranstaltungen/sommerfest-2/
LOCATION:Begegnungsstätte\, Gladbacher Straße 60\, Viersen\, 41747
END:VEVENT
END:VCALENDAR