BEGIN:VCALENDAR
VERSION:2.0
PRODID:-//Freundeskreis für Rollstuhlfahrer Viersen e.V. - ECPv6.15.20//NONSGML v1.0//EN
CALSCALE:GREGORIAN
METHOD:PUBLISH
X-ORIGINAL-URL:https://rolliverein.de
X-WR-CALDESC:Veranstaltungen für Freundeskreis für Rollstuhlfahrer Viersen e.V.
REFRESH-INTERVAL;VALUE=DURATION:PT1H
X-Robots-Tag:noindex
X-PUBLISHED-TTL:PT1H
BEGIN:VTIMEZONE
TZID:Europe/Berlin
BEGIN:DAYLIGHT
TZOFFSETFROM:+0100
TZOFFSETTO:+0200
TZNAME:CEST
DTSTART:20220327T010000
END:DAYLIGHT
BEGIN:STANDARD
TZOFFSETFROM:+0200
TZOFFSETTO:+0100
TZNAME:CET
DTSTART:20221030T010000
END:STANDARD
BEGIN:DAYLIGHT
TZOFFSETFROM:+0100
TZOFFSETTO:+0200
TZNAME:CEST
DTSTART:20230326T010000
END:DAYLIGHT
BEGIN:STANDARD
TZOFFSETFROM:+0200
TZOFFSETTO:+0100
TZNAME:CET
DTSTART:20231029T010000
END:STANDARD
BEGIN:DAYLIGHT
TZOFFSETFROM:+0100
TZOFFSETTO:+0200
TZNAME:CEST
DTSTART:20240331T010000
END:DAYLIGHT
BEGIN:STANDARD
TZOFFSETFROM:+0200
TZOFFSETTO:+0100
TZNAME:CET
DTSTART:20241027T010000
END:STANDARD
END:VTIMEZONE
BEGIN:VEVENT
DTSTART;TZID=Europe/Berlin:20231217T160000
DTEND;TZID=Europe/Berlin:20231217T210000
DTSTAMP:20260420T011156
CREATED:20230926T083904Z
LAST-MODIFIED:20231114T124659Z
UID:2326-1702828800-1702846800@rolliverein.de
SUMMARY:Weihnachtsfest
DESCRIPTION:Zu unserem diesjährigen Weihnachtsfest laden wir Euch sehr herzlich ein. \nAuch dieses Mal wird es ein Schrottwichteln geben. \nEs wird weihnachtlich bei Kaffee und Kuchen mit Musik. \nWir freuen uns auf  schöne besinnliche Stunden!
URL:https://rolliverein.de/veranstaltungen/weihnachtsfest-2/
LOCATION:Begegnungsstätte\, Gladbacher Straße 60\, Viersen\, 41747
END:VEVENT
END:VCALENDAR