BEGIN:VCALENDAR
VERSION:2.0
PRODID:-//Freundeskreis für Rollstuhlfahrer Viersen e.V. - ECPv6.15.20//NONSGML v1.0//EN
CALSCALE:GREGORIAN
METHOD:PUBLISH
X-WR-CALNAME:Freundeskreis für Rollstuhlfahrer Viersen e.V.
X-ORIGINAL-URL:https://rolliverein.de
X-WR-CALDESC:Veranstaltungen für Freundeskreis für Rollstuhlfahrer Viersen e.V.
REFRESH-INTERVAL;VALUE=DURATION:PT1H
X-Robots-Tag:noindex
X-PUBLISHED-TTL:PT1H
BEGIN:VTIMEZONE
TZID:Europe/Berlin
BEGIN:DAYLIGHT
TZOFFSETFROM:+0100
TZOFFSETTO:+0200
TZNAME:CEST
DTSTART:20230326T010000
END:DAYLIGHT
BEGIN:STANDARD
TZOFFSETFROM:+0200
TZOFFSETTO:+0100
TZNAME:CET
DTSTART:20231029T010000
END:STANDARD
BEGIN:DAYLIGHT
TZOFFSETFROM:+0100
TZOFFSETTO:+0200
TZNAME:CEST
DTSTART:20240331T010000
END:DAYLIGHT
BEGIN:STANDARD
TZOFFSETFROM:+0200
TZOFFSETTO:+0100
TZNAME:CET
DTSTART:20241027T010000
END:STANDARD
BEGIN:DAYLIGHT
TZOFFSETFROM:+0100
TZOFFSETTO:+0200
TZNAME:CEST
DTSTART:20250330T010000
END:DAYLIGHT
BEGIN:STANDARD
TZOFFSETFROM:+0200
TZOFFSETTO:+0100
TZNAME:CET
DTSTART:20251026T010000
END:STANDARD
END:VTIMEZONE
BEGIN:VEVENT
DTSTART;TZID=Europe/Berlin:20240208T160000
DTEND;TZID=Europe/Berlin:20240208T230000
DTSTAMP:20260419T214043
CREATED:20240112T160204Z
LAST-MODIFIED:20240208T130335Z
UID:2407-1707408000-1707433200@rolliverein.de
SUMMARY:Weiberfastnacht
DESCRIPTION:Die Weiberfastnacht wird wieder bunt\, laut und LUSTIG!!!!
URL:https://rolliverein.de/veranstaltungen/weiberfastnacht-2/
END:VEVENT
BEGIN:VEVENT
DTSTART;TZID=Europe/Berlin:20240214T150000
DTEND;TZID=Europe/Berlin:20240214T180000
DTSTAMP:20260419T214043
CREATED:20240112T155709Z
LAST-MODIFIED:20240211T114335Z
UID:2405-1707922800-1707933600@rolliverein.de
SUMMARY:Fischessen - Voranmeldung bis 08.02.24 !
DESCRIPTION:Wir laden zum beliebten Fischessen ein.\nEs ist zwar am Ende der Karnevalszeit an Aschermittwoch\, aber das ist kein Grund zum Trübsal blasen.\nBei bester Laune werden wir den leckeren Fisch genießen und ein lustigen schönen Tag verbringen! \nVoranmeldung bis 08.02.
URL:https://rolliverein.de/veranstaltungen/fischessen/
LOCATION:Begegnungsstätte\, Gladbacher Straße 60\, Viersen\, 41747
END:VEVENT
END:VCALENDAR