BEGIN:VCALENDAR
VERSION:2.0
PRODID:-//Freundeskreis für Rollstuhlfahrer Viersen e.V. - ECPv6.15.20//NONSGML v1.0//EN
CALSCALE:GREGORIAN
METHOD:PUBLISH
X-ORIGINAL-URL:https://rolliverein.de
X-WR-CALDESC:Veranstaltungen für Freundeskreis für Rollstuhlfahrer Viersen e.V.
REFRESH-INTERVAL;VALUE=DURATION:PT1H
X-Robots-Tag:noindex
X-PUBLISHED-TTL:PT1H
BEGIN:VTIMEZONE
TZID:Europe/Berlin
BEGIN:DAYLIGHT
TZOFFSETFROM:+0100
TZOFFSETTO:+0200
TZNAME:CEST
DTSTART:20240331T010000
END:DAYLIGHT
BEGIN:STANDARD
TZOFFSETFROM:+0200
TZOFFSETTO:+0100
TZNAME:CET
DTSTART:20241027T010000
END:STANDARD
BEGIN:DAYLIGHT
TZOFFSETFROM:+0100
TZOFFSETTO:+0200
TZNAME:CEST
DTSTART:20250330T010000
END:DAYLIGHT
BEGIN:STANDARD
TZOFFSETFROM:+0200
TZOFFSETTO:+0100
TZNAME:CET
DTSTART:20251026T010000
END:STANDARD
BEGIN:DAYLIGHT
TZOFFSETFROM:+0100
TZOFFSETTO:+0200
TZNAME:CEST
DTSTART:20260329T010000
END:DAYLIGHT
BEGIN:STANDARD
TZOFFSETFROM:+0200
TZOFFSETTO:+0100
TZNAME:CET
DTSTART:20261025T010000
END:STANDARD
END:VTIMEZONE
BEGIN:VEVENT
DTSTART;TZID=Europe/Berlin:20250501T120000
DTEND;TZID=Europe/Berlin:20250501T120000
DTSTAMP:20260422T014126
CREATED:20250405T174218Z
LAST-MODIFIED:20250405T174231Z
UID:3064-1746100800-1746100800@rolliverein.de
SUMMARY:1. Mai - Knödelbraten\, Knödel\, Rotkohl & Dessert (€15.- Voranmeldung mit Vorkasse bis 17.04.25)
DESCRIPTION:
URL:https://rolliverein.de/veranstaltungen/1-mai-knoedelbraten-knoedel-rotkohl-dessert-e15-voranmeldung-mit-vorkasse-bis-17-04-25/
LOCATION:Begegnungsstätte\, Gladbacher Straße 60\, Viersen\, 41747
END:VEVENT
BEGIN:VEVENT
DTSTART;TZID=Europe/Berlin:20250510T100000
DTEND;TZID=Europe/Berlin:20250510T140000
DTSTAMP:20260422T014126
CREATED:20250405T175248Z
LAST-MODIFIED:20250405T175856Z
UID:3071-1746871200-1746885600@rolliverein.de
SUMMARY:Aktionstag auf dem Sparkassenvorplatz
DESCRIPTION:
URL:https://rolliverein.de/veranstaltungen/aktionstag-auf-dem-sparkassenvorplatz/
LOCATION:Sparkassenvorplatz in Viersen\, Hauptstr. 91\, Viersen\, 41747\, Germany
END:VEVENT
BEGIN:VEVENT
DTSTART;TZID=Europe/Berlin:20250518T140000
DTEND;TZID=Europe/Berlin:20250518T170000
DTSTAMP:20260422T014126
CREATED:20241128T154655Z
LAST-MODIFIED:20250405T174601Z
UID:2916-1747576800-1747587600@rolliverein.de
SUMMARY:Sonntagskaffee
DESCRIPTION:Hmmm – es gibt leckere Kuchen !!! \nWir erwarten Euch!
URL:https://rolliverein.de/veranstaltungen/sonntagskaffee-4/
LOCATION:Begegnungsstätte\, Gladbacher Straße 60\, Viersen\, 41747
END:VEVENT
BEGIN:VEVENT
DTSTART;TZID=Europe/Berlin:20250529T110000
DTEND;TZID=Europe/Berlin:20250529T110000
DTSTAMP:20260422T014126
CREATED:20250306T132217Z
LAST-MODIFIED:20250528T165637Z
UID:3030-1748516400-1748516400@rolliverein.de
SUMMARY:Vatertag angrillen
DESCRIPTION:Kommt am Vatertag zu uns zum Angrillen! \nDie Grillplatte ist schon heiß und ist reich mit Grillgut bestückt!!!
URL:https://rolliverein.de/veranstaltungen/vatertag-angrillen-2/
LOCATION:Begegnungsstätte\, Gladbacher Straße 60\, Viersen\, 41747
ATTACH;FMTTYPE=image/jpeg:https://rolliverein.de/wp-content/uploads/IMG-20250518-WA0007.jpg
END:VEVENT
END:VCALENDAR