BEGIN:VCALENDAR
VERSION:2.0
PRODID:-//Freundeskreis für Rollstuhlfahrer Viersen e.V. - ECPv6.15.20//NONSGML v1.0//EN
CALSCALE:GREGORIAN
METHOD:PUBLISH
X-WR-CALNAME:Freundeskreis für Rollstuhlfahrer Viersen e.V.
X-ORIGINAL-URL:https://rolliverein.de
X-WR-CALDESC:Veranstaltungen für Freundeskreis für Rollstuhlfahrer Viersen e.V.
REFRESH-INTERVAL;VALUE=DURATION:PT1H
X-Robots-Tag:noindex
X-PUBLISHED-TTL:PT1H
BEGIN:VTIMEZONE
TZID:Europe/Berlin
BEGIN:DAYLIGHT
TZOFFSETFROM:+0100
TZOFFSETTO:+0200
TZNAME:CEST
DTSTART:20240331T010000
END:DAYLIGHT
BEGIN:STANDARD
TZOFFSETFROM:+0200
TZOFFSETTO:+0100
TZNAME:CET
DTSTART:20241027T010000
END:STANDARD
BEGIN:DAYLIGHT
TZOFFSETFROM:+0100
TZOFFSETTO:+0200
TZNAME:CEST
DTSTART:20250330T010000
END:DAYLIGHT
BEGIN:STANDARD
TZOFFSETFROM:+0200
TZOFFSETTO:+0100
TZNAME:CET
DTSTART:20251026T010000
END:STANDARD
BEGIN:DAYLIGHT
TZOFFSETFROM:+0100
TZOFFSETTO:+0200
TZNAME:CEST
DTSTART:20260329T010000
END:DAYLIGHT
BEGIN:STANDARD
TZOFFSETFROM:+0200
TZOFFSETTO:+0100
TZNAME:CET
DTSTART:20261025T010000
END:STANDARD
END:VTIMEZONE
BEGIN:VEVENT
DTSTART;TZID=Europe/Berlin:20250705T110000
DTEND;TZID=Europe/Berlin:20250705T110000
DTSTAMP:20260421T223625
CREATED:20250305T183652Z
LAST-MODIFIED:20250630T203857Z
UID:3018-1751713200-1751713200@rolliverein.de
SUMMARY:Sommerfest
DESCRIPTION:lasst Euch auf unserem Sommerfest verwöhnen!\nEs werden verschiedene Speisen\, wie Frikadellen im Brötchen\, Bratwürste\, Geflügel- und Nackensteaks angeboten.\nDes Weiteren gibt es Kaffee und leckeren Kuchen.\nAuch kalte Getränke stehen bereit. \nEs warten viele Preise bei der großen Verlosung!
URL:https://rolliverein.de/veranstaltungen/sommerfest-3/
LOCATION:Begegnungsstätte\, Gladbacher Straße 60\, Viersen\, 41747
ATTACH;FMTTYPE=image/jpeg:https://rolliverein.de/wp-content/uploads/IMG-20250624-WA0007-scaled.jpg
END:VEVENT
BEGIN:VEVENT
DTSTART;TZID=Europe/Berlin:20250719T140000
DTEND;TZID=Europe/Berlin:20250719T140000
DTSTAMP:20260421T223625
CREATED:20250305T155601Z
LAST-MODIFIED:20250709T175055Z
UID:2921-1752933600-1752933600@rolliverein.de
SUMMARY:GRILLFEST
DESCRIPTION:GRILLFEST MIT ÜBERRASCHUNG !!! \nDazu MUSIK aus der JUKE-BOX! \nEs gibt Krakauer mit Brötchen\, Steaks mit Brötchen und leckere Salate. \nUnd viel Spaß!
URL:https://rolliverein.de/veranstaltungen/grillfest-2/
LOCATION:Begegnungsstätte\, Gladbacher Straße 60\, Viersen\, 41747
ATTACH;FMTTYPE=image/jpeg:https://rolliverein.de/wp-content/uploads/IMG-20250709-WA0001.jpg
END:VEVENT
BEGIN:VEVENT
DTSTART;TZID=Europe/Berlin:20250726T110000
DTEND;TZID=Europe/Berlin:20250726T140000
DTSTAMP:20260421T223625
CREATED:20250718T124903Z
LAST-MODIFIED:20250725T155119Z
UID:3273-1753527600-1753538400@rolliverein.de
SUMMARY:Selbsthilfetag am Sparkassenvorplatz
DESCRIPTION:Am Samstag\, den 26.07.25 sind wir erneut am Sparkassenvorplatz in Viersen vertreten. Es wird wieder stimmungsvoll werden!
URL:https://rolliverein.de/veranstaltungen/selbsthilfetag-am-sparkassenvorplatz/
LOCATION:Sparkassenvorplatz in Viersen\, Hauptstr. 91\, Viersen\, 41747\, Germany
END:VEVENT
END:VCALENDAR